BEGIN:VCALENDAR
VERSION:2.0
PRODID:-//Purple Carrots Drama Studio - ECPv6.15.13.1//NONSGML v1.0//EN
CALSCALE:GREGORIAN
METHOD:PUBLISH
X-ORIGINAL-URL:https://purplecarrots.ca
X-WR-CALDESC:Events for Purple Carrots Drama Studio
REFRESH-INTERVAL;VALUE=DURATION:PT1H
X-Robots-Tag:noindex
X-PUBLISHED-TTL:PT1H
BEGIN:VTIMEZONE
TZID:UTC
BEGIN:STANDARD
TZOFFSETFROM:+0000
TZOFFSETTO:+0000
TZNAME:UTC
DTSTART:20250101T000000
END:STANDARD
END:VTIMEZONE
BEGIN:VEVENT
DTSTART;TZID=UTC:20260812T090000
DTEND;TZID=UTC:20260812T130000
DTSTAMP:20260422T215614
CREATED:20260422T134148Z
LAST-MODIFIED:20260422T134148Z
UID:4314-1786525200-1786539600@purplecarrots.ca
SUMMARY:Youth+ - Camp Carrot
DESCRIPTION:
URL:https://purplecarrots.ca/calendar/youth-camp-carrot-8/
LOCATION:Artscape Youngplace\, 180 Shaw St.\, Toronto\, ON\, Canada
CATEGORIES:Summer Series
ATTACH;FMTTYPE=image/png:https://purplecarrots.ca/wp-content/uploads/2025/02/Camp-Carrot-Logo.png
ORGANIZER;CN="Purple Carrots Drama Studio":MAILTO:info@purplecarrots.ca
END:VEVENT
BEGIN:VEVENT
DTSTART;TZID=UTC:20260813T090000
DTEND;TZID=UTC:20260813T130000
DTSTAMP:20260422T215614
CREATED:20260422T134212Z
LAST-MODIFIED:20260422T134212Z
UID:4316-1786611600-1786626000@purplecarrots.ca
SUMMARY:Youth+ - Camp Carrot
DESCRIPTION:
URL:https://purplecarrots.ca/calendar/youth-camp-carrot-9/
LOCATION:Artscape Youngplace\, 180 Shaw St.\, Toronto\, ON\, Canada
CATEGORIES:Summer Series
ATTACH;FMTTYPE=image/png:https://purplecarrots.ca/wp-content/uploads/2025/02/Camp-Carrot-Logo.png
ORGANIZER;CN="Purple Carrots Drama Studio":MAILTO:info@purplecarrots.ca
END:VEVENT
BEGIN:VEVENT
DTSTART;TZID=UTC:20260814T090000
DTEND;TZID=UTC:20260814T130000
DTSTAMP:20260422T215614
CREATED:20260422T134237Z
LAST-MODIFIED:20260422T134237Z
UID:4318-1786698000-1786712400@purplecarrots.ca
SUMMARY:Youth+ - Camp Carrot
DESCRIPTION:
URL:https://purplecarrots.ca/calendar/youth-camp-carrot-10/
LOCATION:Artscape Youngplace\, 180 Shaw St.\, Toronto\, ON\, Canada
CATEGORIES:Summer Series
ATTACH;FMTTYPE=image/png:https://purplecarrots.ca/wp-content/uploads/2025/02/Camp-Carrot-Logo.png
ORGANIZER;CN="Purple Carrots Drama Studio":MAILTO:info@purplecarrots.ca
END:VEVENT
BEGIN:VEVENT
DTSTART;TZID=UTC:20260817T090000
DTEND;TZID=UTC:20260817T140000
DTSTAMP:20260422T215614
CREATED:20251113T161458Z
LAST-MODIFIED:20260422T132702Z
UID:3913-1786957200-1786975200@purplecarrots.ca
SUMMARY:Teens & Adults - Camp Carrot
DESCRIPTION:
URL:https://purplecarrots.ca/calendar/teens-adults-camp-carrot/
LOCATION:Swansea Town Hall\, 95 Lavinia Ave\, Toronto\, ON\, Canada
CATEGORIES:Summer Series
ATTACH;FMTTYPE=image/png:https://purplecarrots.ca/wp-content/uploads/2025/02/Camp-Carrot-Logo.png
ORGANIZER;CN="Purple Carrots Drama Studio":MAILTO:info@purplecarrots.ca
END:VEVENT
BEGIN:VEVENT
DTSTART;TZID=UTC:20260818T090000
DTEND;TZID=UTC:20260818T140000
DTSTAMP:20260422T215614
CREATED:20251113T161524Z
LAST-MODIFIED:20260422T132728Z
UID:3915-1787043600-1787061600@purplecarrots.ca
SUMMARY:Teens & Adults - Camp Carrot
DESCRIPTION:
URL:https://purplecarrots.ca/calendar/teens-adults-camp-carrot-2/
LOCATION:Swansea Town Hall\, 95 Lavinia Ave\, Toronto\, ON\, Canada
CATEGORIES:Summer Series
ATTACH;FMTTYPE=image/png:https://purplecarrots.ca/wp-content/uploads/2025/02/Camp-Carrot-Logo.png
ORGANIZER;CN="Purple Carrots Drama Studio":MAILTO:info@purplecarrots.ca
END:VEVENT
BEGIN:VEVENT
DTSTART;TZID=UTC:20260819T090000
DTEND;TZID=UTC:20260819T140000
DTSTAMP:20260422T215614
CREATED:20251113T161544Z
LAST-MODIFIED:20260422T132757Z
UID:3917-1787130000-1787148000@purplecarrots.ca
SUMMARY:Teens & Adults - Camp Carrot
DESCRIPTION:
URL:https://purplecarrots.ca/calendar/teens-adults-camp-carrot-3/
LOCATION:Swansea Town Hall\, 95 Lavinia Ave\, Toronto\, ON\, Canada
CATEGORIES:Summer Series
ATTACH;FMTTYPE=image/png:https://purplecarrots.ca/wp-content/uploads/2025/02/Camp-Carrot-Logo.png
ORGANIZER;CN="Purple Carrots Drama Studio":MAILTO:info@purplecarrots.ca
END:VEVENT
BEGIN:VEVENT
DTSTART;TZID=UTC:20260820T090000
DTEND;TZID=UTC:20260820T140000
DTSTAMP:20260422T215614
CREATED:20251113T161604Z
LAST-MODIFIED:20260422T132829Z
UID:3919-1787216400-1787234400@purplecarrots.ca
SUMMARY:Teens & Adults - Camp Carrot
DESCRIPTION:
URL:https://purplecarrots.ca/calendar/teens-adults-camp-carrot-4/
LOCATION:Swansea Town Hall\, 95 Lavinia Ave\, Toronto\, ON\, Canada
CATEGORIES:Summer Series
ATTACH;FMTTYPE=image/png:https://purplecarrots.ca/wp-content/uploads/2025/02/Camp-Carrot-Logo.png
ORGANIZER;CN="Purple Carrots Drama Studio":MAILTO:info@purplecarrots.ca
END:VEVENT
BEGIN:VEVENT
DTSTART;TZID=UTC:20260821T090000
DTEND;TZID=UTC:20260821T140000
DTSTAMP:20260422T215614
CREATED:20251113T161623Z
LAST-MODIFIED:20260422T132851Z
UID:3921-1787302800-1787320800@purplecarrots.ca
SUMMARY:Teens & Adults - Camp Carrot
DESCRIPTION:
URL:https://purplecarrots.ca/calendar/teens-adults-camp-carrot-5/
LOCATION:Swansea Town Hall\, 95 Lavinia Ave\, Toronto\, ON\, Canada
CATEGORIES:Summer Series
ATTACH;FMTTYPE=image/png:https://purplecarrots.ca/wp-content/uploads/2025/02/Camp-Carrot-Logo.png
ORGANIZER;CN="Purple Carrots Drama Studio":MAILTO:info@purplecarrots.ca
END:VEVENT
END:VCALENDAR